BEGIN:VCALENDAR
VERSION:2.0
PRODID:-//【公式サイト】心のふるさと創生会議 - ECPv4.9.2//NONSGML v1.0//EN
CALSCALE:GREGORIAN
METHOD:PUBLISH
X-WR-CALNAME:【公式サイト】心のふるさと創生会議
X-ORIGINAL-URL:http://www.kokoronofurusato.org
X-WR-CALDESC:Events for 【公式サイト】心のふるさと創生会議
BEGIN:VEVENT
DTSTART;TZID=Asia/Tokyo:20210724T140000
DTEND;TZID=Asia/Tokyo:20210724T160000
DTSTAMP:20260422T222351
CREATED:20200322T153338Z
LAST-MODIFIED:20210610T050851Z
UID:818-1627135200-1627142400@www.kokoronofurusato.org
SUMMARY:2021年┃藩を支えた家臣講座【講座番号：D1】忠宗の藩政を支えた功臣
DESCRIPTION:＜講師＞菅野 正道（元仙台市博物館 市史編さん室長） ………………………… 石母田大膳宗頼と古内主膳重広  \n
URL:http://www.kokoronofurusato.org/event/2020_04_25_d01/
LOCATION:東北福祉大学 仙台駅東口キャンパス\, 宮城野区榴岡2-5-26\, 仙台市\, 宮城県\, 983-8511\, 日本
CATEGORIES:歴史講座
END:VEVENT
END:VCALENDAR