BEGIN:VCALENDAR
VERSION:2.0
PRODID:-//【公式サイト】心のふるさと創生会議 - ECPv4.9.2//NONSGML v1.0//EN
CALSCALE:GREGORIAN
METHOD:PUBLISH
X-WR-CALNAME:【公式サイト】心のふるさと創生会議
X-ORIGINAL-URL:http://www.kokoronofurusato.org
X-WR-CALDESC:Events for 【公式サイト】心のふるさと創生会議
BEGIN:VEVENT
DTSTART;TZID=Asia/Tokyo:20191116T140000
DTEND;TZID=Asia/Tokyo:20191116T160000
DTSTAMP:20260422T222448
CREATED:20190521T051941Z
LAST-MODIFIED:20190718T105257Z
UID:302-1573912800-1573920000@www.kokoronofurusato.org
SUMMARY:2019年┃歴代藩主講座【講座番号：C8】伊達家出身の若年寄 堀田正敦
DESCRIPTION: \n★モニター画面で講義の中継を別教室でご覧いただく【サテライト教室】限定で残席がある場合がございます。\nご希望の方は、東京事務所（電話：03-3523-3462）までお問い合わせください★ \n \n＜講師＞高澤 憲治（國學院大學 文学部講師） ………………………… 藩祖政宗の夢は如何に継承されたか！徹底検証戦乱の世に天下を狙える知恵と力量を持ちながら、時と場所に恵まれなかった悲運の中で大きな夢を抱き、果敢に世界に目を向け、雄藩としての仙台藩の基礎を築いた政宗。 その大きな夢を、歴代藩主は如何に継承発展させたかを検証していきます。  \n
URL:http://www.kokoronofurusato.org/event/2019_11_16_c08/
LOCATION:東北福祉大学 仙台駅東口キャンパス\, 宮城野区榴岡2-5-26\, 仙台市\, 宮城県\, 983-8511\, 日本
CATEGORIES:歴史講座
END:VEVENT
END:VCALENDAR